BEGIN:VCALENDAR
VERSION:2.0
PRODID:-//DSD Business Systems - ECPv6.15.20//NONSGML v1.0//EN
CALSCALE:GREGORIAN
METHOD:PUBLISH
X-ORIGINAL-URL:https://www.dsdinc.com
X-WR-CALDESC:Events for DSD Business Systems
REFRESH-INTERVAL;VALUE=DURATION:PT1H
X-Robots-Tag:noindex
X-PUBLISHED-TTL:PT1H
BEGIN:VTIMEZONE
TZID:America/Los_Angeles
BEGIN:DAYLIGHT
TZOFFSETFROM:-0800
TZOFFSETTO:-0700
TZNAME:PDT
DTSTART:20240310T100000
END:DAYLIGHT
BEGIN:STANDARD
TZOFFSETFROM:-0700
TZOFFSETTO:-0800
TZNAME:PST
DTSTART:20241103T090000
END:STANDARD
BEGIN:DAYLIGHT
TZOFFSETFROM:-0800
TZOFFSETTO:-0700
TZNAME:PDT
DTSTART:20250309T100000
END:DAYLIGHT
BEGIN:STANDARD
TZOFFSETFROM:-0700
TZOFFSETTO:-0800
TZNAME:PST
DTSTART:20251102T090000
END:STANDARD
BEGIN:DAYLIGHT
TZOFFSETFROM:-0800
TZOFFSETTO:-0700
TZNAME:PDT
DTSTART:20260308T100000
END:DAYLIGHT
BEGIN:STANDARD
TZOFFSETFROM:-0700
TZOFFSETTO:-0800
TZNAME:PST
DTSTART:20261101T090000
END:STANDARD
END:VTIMEZONE
BEGIN:VEVENT
DTSTART;TZID=America/Los_Angeles:20250122T090000
DTEND;TZID=America/Los_Angeles:20250122T110000
DTSTAMP:20260421T041459
CREATED:20241014T163422Z
LAST-MODIFIED:20241014T163422Z
UID:232986-1737536400-1737543600@www.dsdinc.com
SUMMARY:Stock\, Paper\, Inventory!
DESCRIPTION:Description: Inventory Control applications help you make informed inventory management decisions\, by tracking merchandise\, providing essential replenishment and fulfillment workflows\, and analyzing your sales and ordering statistics. \nWe will feature: \n\nWhat’s sellable inventory versus supplies\nCommon pain points for inventory management\nDiscuss key metrics for reporting\nand more!
URL:https://www.dsdinc.com/event/stock-paper-inventory
CATEGORIES:Sage Intacct
ATTACH;FMTTYPE=image/png:https://www.dsdinc.com/wp-content/uploads/2024/10/Website-Topline-12.png
END:VEVENT
END:VCALENDAR