BEGIN:VCALENDAR
VERSION:2.0
PRODID:-//DSD Business Systems - ECPv6.15.20//NONSGML v1.0//EN
CALSCALE:GREGORIAN
METHOD:PUBLISH
X-ORIGINAL-URL:https://www.dsdinc.com
X-WR-CALDESC:Events for DSD Business Systems
REFRESH-INTERVAL;VALUE=DURATION:PT1H
X-Robots-Tag:noindex
X-PUBLISHED-TTL:PT1H
BEGIN:VTIMEZONE
TZID:America/Los_Angeles
BEGIN:DAYLIGHT
TZOFFSETFROM:-0800
TZOFFSETTO:-0700
TZNAME:PDT
DTSTART:20230312T100000
END:DAYLIGHT
BEGIN:STANDARD
TZOFFSETFROM:-0700
TZOFFSETTO:-0800
TZNAME:PST
DTSTART:20231105T090000
END:STANDARD
BEGIN:DAYLIGHT
TZOFFSETFROM:-0800
TZOFFSETTO:-0700
TZNAME:PDT
DTSTART:20240310T100000
END:DAYLIGHT
BEGIN:STANDARD
TZOFFSETFROM:-0700
TZOFFSETTO:-0800
TZNAME:PST
DTSTART:20241103T090000
END:STANDARD
BEGIN:DAYLIGHT
TZOFFSETFROM:-0800
TZOFFSETTO:-0700
TZNAME:PDT
DTSTART:20250309T100000
END:DAYLIGHT
BEGIN:STANDARD
TZOFFSETFROM:-0700
TZOFFSETTO:-0800
TZNAME:PST
DTSTART:20251102T090000
END:STANDARD
END:VTIMEZONE
BEGIN:VEVENT
DTSTART;TZID=America/Los_Angeles:20241204T093000
DTEND;TZID=America/Los_Angeles:20241204T110000
DTSTAMP:20260422T081745
CREATED:20241014T154921Z
LAST-MODIFIED:20241014T154921Z
UID:232968-1733304600-1733310000@www.dsdinc.com
SUMMARY:Financial Services Industry
DESCRIPTION:Join your fellow Financial Services peers to learn about best practices\, product updates\, and more from our experts. \nIn this session we’ll highlight: \n\nOverview of how to strategically plan for and streamline your month-end close.\nProduct enhancements for Financial Services.\n\nWe’ll feature: \n\nA customer panel.\nHighlight resources and release updates that help you get the most out of Sage Intacct.\nOpen Q&A.\nand more!
URL:https://www.dsdinc.com/event/financial-services-industry
CATEGORIES:Sage Intacct
ATTACH;FMTTYPE=image/png:https://www.dsdinc.com/wp-content/uploads/2024/10/Website-Topline-6.png
END:VEVENT
END:VCALENDAR