BEGIN:VCALENDAR
VERSION:2.0
PRODID:-//DSD Business Systems - ECPv6.15.20//NONSGML v1.0//EN
CALSCALE:GREGORIAN
METHOD:PUBLISH
X-ORIGINAL-URL:https://www.dsdinc.com
X-WR-CALDESC:Events for DSD Business Systems
REFRESH-INTERVAL;VALUE=DURATION:PT1H
X-Robots-Tag:noindex
X-PUBLISHED-TTL:PT1H
BEGIN:VTIMEZONE
TZID:America/Los_Angeles
BEGIN:DAYLIGHT
TZOFFSETFROM:-0800
TZOFFSETTO:-0700
TZNAME:PDT
DTSTART:20230312T100000
END:DAYLIGHT
BEGIN:STANDARD
TZOFFSETFROM:-0700
TZOFFSETTO:-0800
TZNAME:PST
DTSTART:20231105T090000
END:STANDARD
BEGIN:DAYLIGHT
TZOFFSETFROM:-0800
TZOFFSETTO:-0700
TZNAME:PDT
DTSTART:20240310T100000
END:DAYLIGHT
BEGIN:STANDARD
TZOFFSETFROM:-0700
TZOFFSETTO:-0800
TZNAME:PST
DTSTART:20241103T090000
END:STANDARD
BEGIN:DAYLIGHT
TZOFFSETFROM:-0800
TZOFFSETTO:-0700
TZNAME:PDT
DTSTART:20250309T100000
END:DAYLIGHT
BEGIN:STANDARD
TZOFFSETFROM:-0700
TZOFFSETTO:-0800
TZNAME:PST
DTSTART:20251102T090000
END:STANDARD
END:VTIMEZONE
BEGIN:VEVENT
DTSTART;TZID=America/Los_Angeles:20240625T110000
DTEND;TZID=America/Los_Angeles:20240625T120000
DTSTAMP:20260422T164144
CREATED:20240520T170719Z
LAST-MODIFIED:20240520T210259Z
UID:229522-1719313200-1719316800@www.dsdinc.com
SUMMARY:The secrets of successful CFOs
DESCRIPTION:Register now for the chance to hear the expert view on what makes a CFO thrive\, from embracing AI and tech savviness to getting the work-life balance just right.
URL:https://www.dsdinc.com/event/the-secrets-of-successful-cfos
LOCATION:Virtual Event
CATEGORIES:Sage Intacct
ATTACH;FMTTYPE=image/png:https://www.dsdinc.com/wp-content/uploads/2024/05/196.png
END:VEVENT
END:VCALENDAR