BEGIN:VCALENDAR
VERSION:2.0
PRODID:-//DSD Business Systems - ECPv6.15.20//NONSGML v1.0//EN
CALSCALE:GREGORIAN
METHOD:PUBLISH
X-ORIGINAL-URL:https://www.dsdinc.com
X-WR-CALDESC:Events for DSD Business Systems
REFRESH-INTERVAL;VALUE=DURATION:PT1H
X-Robots-Tag:noindex
X-PUBLISHED-TTL:PT1H
BEGIN:VTIMEZONE
TZID:America/Los_Angeles
BEGIN:DAYLIGHT
TZOFFSETFROM:-0800
TZOFFSETTO:-0700
TZNAME:PDT
DTSTART:20240310T100000
END:DAYLIGHT
BEGIN:STANDARD
TZOFFSETFROM:-0700
TZOFFSETTO:-0800
TZNAME:PST
DTSTART:20241103T090000
END:STANDARD
BEGIN:DAYLIGHT
TZOFFSETFROM:-0800
TZOFFSETTO:-0700
TZNAME:PDT
DTSTART:20250309T100000
END:DAYLIGHT
BEGIN:STANDARD
TZOFFSETFROM:-0700
TZOFFSETTO:-0800
TZNAME:PST
DTSTART:20251102T090000
END:STANDARD
BEGIN:DAYLIGHT
TZOFFSETFROM:-0800
TZOFFSETTO:-0700
TZNAME:PDT
DTSTART:20260308T100000
END:DAYLIGHT
BEGIN:STANDARD
TZOFFSETFROM:-0700
TZOFFSETTO:-0800
TZNAME:PST
DTSTART:20261101T090000
END:STANDARD
END:VTIMEZONE
BEGIN:VEVENT
DTSTART;TZID=America/Los_Angeles:20250121T090000
DTEND;TZID=America/Los_Angeles:20250121T100000
DTSTAMP:20260421T023049
CREATED:20241230T164130Z
LAST-MODIFIED:20241230T164130Z
UID:235109-1737450000-1737453600@www.dsdinc.com
SUMMARY:Get ahead of property tax and business license compliance
DESCRIPTION:Understand how to navigate key trigger events and core requirements \n\n\n\nDiscover how noncompliance can impact your business and how to leverage shared information to save time and money and reduce risk. \n\n\nOptimize property tax and business license compliance \nAfter this webinar\, you’ll understand: \n\nEssential components of property tax and business license compliance\nKey areas where businesses need to pay close attention to property tax and business license requirements to remain compliant and avoid penalties\n\n\nSimilarities in data and processing for property tax and business license management\n\nUnable to attend live? Register now and we’ll send you a link to view the webinar recording on demand. Attendees of the live webinar are eligible to earn 1 hour of CPE credit.
URL:https://www.dsdinc.com/event/get-ahead-of-property-tax-and-business-license-compliance
CATEGORIES:Acumatica,Sage 100
ATTACH;FMTTYPE=image/png:https://www.dsdinc.com/wp-content/uploads/2024/12/Website-Topline-52.png
END:VEVENT
BEGIN:VEVENT
DTSTART;TZID=America/Los_Angeles:20250123T080000
DTEND;TZID=America/Los_Angeles:20250123T090000
DTSTAMP:20260421T023049
CREATED:20241230T165350Z
LAST-MODIFIED:20241230T165350Z
UID:235112-1737619200-1737622800@www.dsdinc.com
SUMMARY:2025 tax changes
DESCRIPTION:Prepare for a new year of tax compliance\n\n\n\nJoin us for an in-depth look at 2025’s key tax updates. Led by tax experts from KPMG and Avalara\, we’ll cover topics ranging from new nexus thresholds to property tax changes and how to adjust your tax management strategies so your business can stay compliant. \n\n\nIn this webinar\, you’ll learn: \n\nWhich states have updated their economic nexus thresholds and what’s expected for 2025\nWhat property tax changes are making headlines and how they could affect you\nWhere new retail delivery fees are being implemented and which states are next in line\nWhich countries are rolling out e-invoicing mandates in 2025 and what it means for compliance\n\nDon’t miss your chance to stay a step ahead of tax changes in 2025. \nLive webinar attendees are eligible to earn 1 hour of CPE credit.
URL:https://www.dsdinc.com/event/2025-tax-changes-2
CATEGORIES:Acumatica,Sage 100
ATTACH;FMTTYPE=image/png:https://www.dsdinc.com/wp-content/uploads/2024/12/Website-Topline-53.png
END:VEVENT
END:VCALENDAR