BEGIN:VCALENDAR
VERSION:2.0
PRODID:-//DSD Business Systems - ECPv6.15.20//NONSGML v1.0//EN
CALSCALE:GREGORIAN
METHOD:PUBLISH
X-WR-CALNAME:DSD Business Systems
X-ORIGINAL-URL:https://www.dsdinc.com
X-WR-CALDESC:Events for DSD Business Systems
REFRESH-INTERVAL;VALUE=DURATION:PT1H
X-Robots-Tag:noindex
X-PUBLISHED-TTL:PT1H
BEGIN:VTIMEZONE
TZID:America/Los_Angeles
BEGIN:DAYLIGHT
TZOFFSETFROM:-0800
TZOFFSETTO:-0700
TZNAME:PDT
DTSTART:20230312T100000
END:DAYLIGHT
BEGIN:STANDARD
TZOFFSETFROM:-0700
TZOFFSETTO:-0800
TZNAME:PST
DTSTART:20231105T090000
END:STANDARD
BEGIN:DAYLIGHT
TZOFFSETFROM:-0800
TZOFFSETTO:-0700
TZNAME:PDT
DTSTART:20240310T100000
END:DAYLIGHT
BEGIN:STANDARD
TZOFFSETFROM:-0700
TZOFFSETTO:-0800
TZNAME:PST
DTSTART:20241103T090000
END:STANDARD
BEGIN:DAYLIGHT
TZOFFSETFROM:-0800
TZOFFSETTO:-0700
TZNAME:PDT
DTSTART:20250309T100000
END:DAYLIGHT
BEGIN:STANDARD
TZOFFSETFROM:-0700
TZOFFSETTO:-0800
TZNAME:PST
DTSTART:20251102T090000
END:STANDARD
END:VTIMEZONE
BEGIN:VEVENT
DTSTART;TZID=America/Los_Angeles:20241105T080000
DTEND;TZID=America/Los_Angeles:20241105T090000
DTSTAMP:20260421T050702
CREATED:20241014T165418Z
LAST-MODIFIED:20241014T165418Z
UID:232992-1730793600-1730797200@www.dsdinc.com
SUMMARY:Simplify Harmonized System codes to support global trade
DESCRIPTION:Learn about managing the Harmonized Commodity Description and Coding System\n\n\n\nIf you’re importing or exporting goods from one country to another\, knowing as much as you can about Harmonized System (HS) codes is vital. HS codes identify and classify imported and exported products. Currently\, 98% of the countries involved in world trade use them. However\, the codes can involve poor descriptions\, a lack of product detail\, and inaccurate specifications. A classification assistance tool might help\, but not all are created equal. \nWe’ll explain the business challenges associated with HS code classification and how Avalara’s managed and self-serve tariff code classification tools can help. \n\n\nIn this webinar\, we’ll cover: \n\n\n\nWhat the Harmonized Commodity Description and Coding System is all about\nThe business challenges associated with HS codes\nBenefits of the managed and self-serve tariff code classification tools from Avalara\nNew trends in HS code classification\nThe red flags that government auditors look for when reviewing HS codes\n\n\n\nThis webinar will offer 1 CPE credit\, and it will include a live Q&A\, so bring your questions.
URL:https://www.dsdinc.com/event/simplify-harmonized-system-codes-to-support-global-trade
ATTACH;FMTTYPE=image/png:https://www.dsdinc.com/wp-content/uploads/2024/10/Website-Topline-14.png
END:VEVENT
BEGIN:VEVENT
DTSTART;TZID=America/Los_Angeles:20241121T090000
DTEND;TZID=America/Los_Angeles:20241121T100000
DTSTAMP:20260421T050702
CREATED:20241111T171426Z
LAST-MODIFIED:20241111T171426Z
UID:233789-1732179600-1732183200@www.dsdinc.com
SUMMARY:The 10 tricky states for sales tax returns
DESCRIPTION:Mastering tax compliance in the states with the most complex rules\nManaging your company’s sales tax returns can be grueling thanks to varying forms\, fluctuating deadlines\, and changing requirements across state lines. Hear tax experts reveal the most common challenges in filing returns and how you can overcome them. \nIn this webinar\, we’ll help you: \n\nUnderstand new tax legislation across the 10 tricky states and what it means for your sales tax returns\nDiscover the most common challenges businesses face when managing sales tax returns\nLearn tips to reduce the time and resources spent on sales tax returns\nExplore why companies are choosing automation to offload the burden of manually filing returns\n\nLive webinar attendees are eligible to receive 1 hour of CPE credit.
URL:https://www.dsdinc.com/event/the-10-tricky-states-for-sales-tax-returns
ATTACH;FMTTYPE=image/png:https://www.dsdinc.com/wp-content/uploads/2024/11/Website-Topline.png
END:VEVENT
END:VCALENDAR