BEGIN:VCALENDAR
VERSION:2.0
PRODID:-//DSD Business Systems - ECPv6.15.20//NONSGML v1.0//EN
CALSCALE:GREGORIAN
METHOD:PUBLISH
X-ORIGINAL-URL:https://www.dsdinc.com
X-WR-CALDESC:Events for DSD Business Systems
REFRESH-INTERVAL;VALUE=DURATION:PT1H
X-Robots-Tag:noindex
X-PUBLISHED-TTL:PT1H
BEGIN:VTIMEZONE
TZID:America/Los_Angeles
BEGIN:DAYLIGHT
TZOFFSETFROM:-0800
TZOFFSETTO:-0700
TZNAME:PDT
DTSTART:20230312T100000
END:DAYLIGHT
BEGIN:STANDARD
TZOFFSETFROM:-0700
TZOFFSETTO:-0800
TZNAME:PST
DTSTART:20231105T090000
END:STANDARD
BEGIN:DAYLIGHT
TZOFFSETFROM:-0800
TZOFFSETTO:-0700
TZNAME:PDT
DTSTART:20240310T100000
END:DAYLIGHT
BEGIN:STANDARD
TZOFFSETFROM:-0700
TZOFFSETTO:-0800
TZNAME:PST
DTSTART:20241103T090000
END:STANDARD
BEGIN:DAYLIGHT
TZOFFSETFROM:-0800
TZOFFSETTO:-0700
TZNAME:PDT
DTSTART:20250309T100000
END:DAYLIGHT
BEGIN:STANDARD
TZOFFSETFROM:-0700
TZOFFSETTO:-0800
TZNAME:PST
DTSTART:20251102T090000
END:STANDARD
END:VTIMEZONE
BEGIN:VEVENT
DTSTART;TZID=America/Los_Angeles:20241022T090000
DTEND;TZID=America/Los_Angeles:20241022T100000
DTSTAMP:20260421T062931
CREATED:20241014T163934Z
LAST-MODIFIED:20241014T163934Z
UID:232989-1729587600-1729591200@www.dsdinc.com
SUMMARY:Consumer use tax 101: What it is and how to manage it
DESCRIPTION:When businesses are on the hook for paying use tax\n\n\n\nDid your business make a purchase without sales tax? That doesn’t mean it’s tax-free. You might still owe consumer use tax. \nUse tax may be required when sales tax isn’t collected on a purchase\, or if the product or service’s use or location results in additional tax owed. This is what makes use tax one of the most mismanaged compliance issues for businesses. Register for our webinar to learn more about it and how to avoid costly mistakes. \n\n\nYou’ll learn more about: \n\n\n\nThe events that can trigger consumer use tax requirements\nThe most common consumer use tax management challenges\nThe impact of economic nexus on consumer use tax\nHow your business can step up compliance to avoid being audited\n\n\n\nLive attendees can earn 1 CPE credit. This webinar will include a live Q&A\, so bring your questions.
URL:https://www.dsdinc.com/event/consumer-use-tax-101-what-it-is-and-how-to-manage-it-2
ATTACH;FMTTYPE=image/png:https://www.dsdinc.com/wp-content/uploads/2024/10/Website-Topline-13.png
END:VEVENT
END:VCALENDAR