BEGIN:VCALENDAR
VERSION:2.0
PRODID:-//DSD Business Systems - ECPv6.15.20//NONSGML v1.0//EN
CALSCALE:GREGORIAN
METHOD:PUBLISH
X-WR-CALNAME:DSD Business Systems
X-ORIGINAL-URL:https://www.dsdinc.com
X-WR-CALDESC:Events for DSD Business Systems
REFRESH-INTERVAL;VALUE=DURATION:PT1H
X-Robots-Tag:noindex
X-PUBLISHED-TTL:PT1H
BEGIN:VTIMEZONE
TZID:America/Los_Angeles
BEGIN:DAYLIGHT
TZOFFSETFROM:-0800
TZOFFSETTO:-0700
TZNAME:PDT
DTSTART:20230312T100000
END:DAYLIGHT
BEGIN:STANDARD
TZOFFSETFROM:-0700
TZOFFSETTO:-0800
TZNAME:PST
DTSTART:20231105T090000
END:STANDARD
BEGIN:DAYLIGHT
TZOFFSETFROM:-0800
TZOFFSETTO:-0700
TZNAME:PDT
DTSTART:20240310T100000
END:DAYLIGHT
BEGIN:STANDARD
TZOFFSETFROM:-0700
TZOFFSETTO:-0800
TZNAME:PST
DTSTART:20241103T090000
END:STANDARD
BEGIN:DAYLIGHT
TZOFFSETFROM:-0800
TZOFFSETTO:-0700
TZNAME:PDT
DTSTART:20250309T100000
END:DAYLIGHT
BEGIN:STANDARD
TZOFFSETFROM:-0700
TZOFFSETTO:-0800
TZNAME:PST
DTSTART:20251102T090000
END:STANDARD
END:VTIMEZONE
BEGIN:VEVENT
DTSTART;TZID=America/Los_Angeles:20240719T090000
DTEND;TZID=America/Los_Angeles:20240719T120000
DTSTAMP:20260420T035101
CREATED:20240715T205132Z
LAST-MODIFIED:20240715T205132Z
UID:230584-1721379600-1721390400@www.dsdinc.com
SUMMARY:Criterion 24 R2 Client Release Webinar
DESCRIPTION:Join us for an exclusive walkthrough of the new features in Release 24.2. Learn how these innovations can revolutionize your HR processes\, enhance employee onboarding\, streamline recruiting\, and improve overall workforce management. \nKey Takeaways: \n\nDiscover enhanced onboarding tools including buddy system and personalized welcome features\nExplore new recruiting capabilities like job posting cloning and candidate migration\nLearn about advanced succession planning with external candidate inclusion\nSee improved ESS functionality including education proof upload and daily recaps\nUnderstand payroll enhancements and expanded reporting capabilities\n\nDon’t miss this opportunity to stay ahead in HR technology!
URL:https://www.dsdinc.com/event/criterion-24-r2-client-release-webinar
CATEGORIES:Criterion
ATTACH;FMTTYPE=image/png:https://www.dsdinc.com/wp-content/uploads/2024/07/Website-Topline-22.png
END:VEVENT
END:VCALENDAR